Workbook

Sheet Общий прайс
C1: ОБЩИЙ КАТАЛОГ ЦЕН | D1: RINOX | E1: Размер скидки | F1: 0.4 | K1: Навигация по каталогу цен
D2: Холодное литье | F2: 0.4
D3: Горячее литье | F3: 0.4
D4: Смесители и дозаторы | F4: 0.4
D5: Аксессуары | F5: 0.4 | K5: Описание | L5: Ссылки
A6: Код товара | B6: Артикул | C6: Rivelato мойки, дозаторы, аксессуары | D6: Материал | E6: РРЦ ( ₽ ) с НДС | F6: Цена закупки ₽ с НДС | H6: РРЦ ₽ с НДС по АКЦИИ до 31.10.2026 | I6: Закуп с НДС в ₽ по Акции до 31.10.2026 | L6: Гранит | M6: Нерж. Сталь
A7: Мойки RINOX нерж. Сталь | K7: Смесители | L7: Смесители
A8: 18615 | B8: 3844 UN PVD black | C8: Rivelato RINOX 3844 UN PVD black Мойка нерж.сталь подстольный монтаж 1 чаша 380*440*200 мм арт.3844 UN PVD black | D8: SUS 304 нерж. сталь | E8: 24990 | F8: =E8*(1-$F$1) -> 14994 | K8: Дозаторы | L8: Дозаторы
A9: 18614 | B9: 3844 UN | C9: Rivelato RINOX 3844 UN Мойка нерж.сталь подстольный монтаж 1 чаша 380*440*200 мм арт.3844 UN | D9: SUS 304 нерж. сталь | E9: 19990 | F9: =E9*(1-$F$1) -> 11994 | K9: Аксессуары | L9: Аксессуары
A10: 18622 | B10: 3850 PVD black | C10: Rivelato RINOX 3850 PVD black Мойка нерж.сталь 1 чаша 380*500*200 мм арт.3850 PVD black | D10: SUS 304 нерж. сталь | E10: 43280 | F10: =E10*(1-$F$1) -> 25968 | K10: База 400 mm | L10: 400 | M10: 400
A11: 18621 | B11: 3850 | C11: Rivelato RINOX 3850 Мойка нерж.сталь 1 чаша 380*500*200 мм арт.3850 | D11: SUS 304 нерж. сталь | E11: 33850 | F11: =E11*(1-$F$1) -> 20310 | K11: База 450 mm | L11: 450 | M11: 450
A12: 18618 | B12: 4444 UN PVD black | C12: Rivelato RINOX 4444 UN PVD black Мойка нерж.стал подстольный монтаж 1 чаша 440*440*200 мм арт.4444 UN PVD black | D12: SUS 304 нерж. сталь | E12: 40140 | F12: =E12*(1-$F$1) -> 24084 | K12: База 500 mm | L12: 500 | M12: 500
A13: 18617 | B13: 4444 UN | C13: Rivelato RINOX 4444 UN Мойка нерж.сталь 1 чаша 440*440*200 мм арт.4444 UN | D13: SUS 304 нерж. сталь | E13: 30700 | F13: =E13*(1-$F$1) -> 18420 | K13: База 600 mm | L13: 600 | M13: 600
A14: 18623 | B14: 4450 PVD black | C14: Rivelato RINOX 4450 PVD black Мойка нерж.сталь 1 чаша 440*500*200 мм арт.4450 PVD black | D14: SUS 304 нерж. сталь | E14: 45560 | F14: =E14*(1-$F$1) -> 27336 | K14: База 800 mm | L14: 800 | M14: 800
A15: 18634 | B15: 4450 | C15: Rivelato RINOX 4450 Мойка нерж.сталь 1 чаша 440*500*200 мм арт.4450 | D15: SUS 304 нерж. сталь | E15: 35420 | F15: =E15*(1-$F$1) -> 21252 | K15: База 900 mm | L15: 900 | M15: 900
A16: 18620 | B16: 5444 UN PVD black | C16: Rivelato RINOX 5444 UN PVD black Мойка нерж.сталь 1 чаша 540*440*200 мм арт.5444 UN PVD black | D16: SUS 304 нерж. сталь | E16: 43280 | F16: =E16*(1-$F$1) -> 25968 | K16: Общий прайс | L16: Общий прайс
A17: 18619 | B17: 5444 UN | C17: Rivelato RINOX 5444 UN Мойка нерж.сталь 1 чаша 540*440*200 мм арт.5444 UN | D17: SUS 304 нерж. сталь | E17: 33000 | F17: =E17*(1-$F$1) -> 19800 | K17: Содержание
A18: 18636 | B18: 5450 PVD black | C18: Rivelato RINOX 5450 PVD black Мойка нерж.сталь 1 чаша 540*500*200 мм арт.5450 PVD black | D18: SUS 304 нерж. сталь | E18: 50270 | F18: =E18*(1-$F$1) -> 30162
A19: 18635 | B19: 5450 | C19: Rivelato RINOX 5450 Мойка нерж.сталь 1 чаша 540*500*200 мм арт.5450 | D19: SUS 304 нерж. сталь | E19: 38560 | F19: =E19*(1-$F$1) -> 23136
A20: 18616 | B20: 7444 U2 | C20: Rivelato RINOX 7444 U2 Мойка нерж.сталь 2 чаши 740*440*200 мм арт.7444 U2 | D20: SUS 304 нерж. сталь | E20: 25990 | F20: =E20*(1-$F$1) -> 15594
A21: 18625 | B21: 7450 2В PVD black | C21: Rivelato RINOX 7450 2В PVD black Мойка нерж.сталь 2 чаши 740*500*200 мм арт.7450 2В PVD black | D21: SUS 304 нерж. сталь | E21: 71560 | F21: =E21*(1-$F$1) -> 42936
A22: 18624 | B22: 7450 2В | C22: Rivelato RINOX 7450 2В Мойка нерж.сталь 2 чаши 740*500*200 мм арт.7450 2В | D22: SUS 304 нерж. сталь | E22: 57410 | F22: =E22*(1-$F$1) -> 34446
A23: 18628 | B23: 8044 UN | C23: Rivelato RINOX 8044 UN Мойка нерж.сталь 1 чаши 800*440*200 в комплекте (доска, коландер, рол мат) арт.8044 UN | D23: SUS 304 нерж. сталь | E23: 83260 | F23: =E23*(1-$F$1) -> 49956
A24: 18627 | B24: 8050 B2 PVD black | C24: Rivelato RINOX 8050 B2 PVD black Мойка нерж.сталь 2 чаши 800*500*200 мм арт.8050 B2 PVD black | D24: SUS 304 нерж. сталь | E24: 73120 | F24: =E24*(1-$F$1) -> 43872
A25: 18626 | B25: 8050 B2 | C25: Rivelato RINOX 8050 B2 Мойка нерж.сталь 2 чаши 800*500*200 мм арт.8050 B2 | D25: SUS 304 нерж. сталь | E25: 59700 | F25: =E25*(1-$F$1) -> 35820
A26: 18629 | B26: 8050 | C26: Rivelato RINOX 8050 Мойка нерж.сталь 1 чаши 800*500*200 мм в комплекте (доска, коландер, рол мат) арт.8050 | D26: SUS 304 нерж. сталь | E26: 94250 | F26: =E26*(1-$F$1) -> 56550
A27: Мойки холодное литье
A28: 19703 | B28: SL-353 grigio metallizza | C28: RIVELATO Мойка SCALINO SL-353 1-чаш 445*400 grigio metallizzato | D28: Terigranit | E28: 11990 | F28: =E28*(1-$F$2) -> 7194
A29: 19657 | B29: SL-353 antracite | C29: RIVELATO Мойка SCALINO SL-353 1-чаш 445*400 antracite | D29: Terigranit | E29: 11990 | F29: =E29*(1-$F$2) -> 7194
A30: 19658 | B30: SL-353 beige scuro | C30: RIVELATO Мойка SCALINO SL-353 1-чаш 445*400 beige scuro | D30: Terigranit | E30: 11990 | F30: =E30*(1-$F$2) -> 7194
A31: 19659 | B31: SL-353 brina | C31: RIVELATO Мойка SCALINO SL-353 1-чаш 445*400 brina | D31: Terigranit | E31: 11990 | F31: =E31*(1-$F$2) -> 7194
D32: Terigranit | E32: 11990 | F32: =E32*(1-$F$2) -> 7194
D33: Terigranit | E33: 11990 | F33: =E33*(1-$F$2) -> 7194
A34: 19662 | B34: SL-403-L antracite | C34: RIVELATO Мойка SCALINO SL-403-L 1-чаш 445*450 antracite | D34: Terigranit | E34: 14990 | F34: =E34*(1-$F$2) -> 8994
A35: 19663 | B35: SL-403-L beige scuro | C35: RIVELATO Мойка SCALINO SL-403-L 1-чаш 445*450 beige scuro | D35: Terigranit | E35: 14990 | F35: =E35*(1-$F$2) -> 8994
A36: 19664 | B36: SL-403-L brina | C36: RIVELATO Мойка SCALINO SL-403-L 1-чаш 445*450 brina | D36: Terigranit | E36: 14990 | F36: =E36*(1-$F$2) -> 8994
A37: 19665 | B37: SL-403-L grigio metallizz | C37: RIVELATO Мойка SCALINO SL-403-L 1-чаш 445*450 grigio metallizzato | D37: Terigranit | E37: 14990 | F37: =E37*(1-$F$2) -> 8994
D38: Terigranit | E38: 14990 | F38: =E38*(1-$F$2) -> 8994
C39: 450 SCALINO SL-403-L 1-чаш 445*450 topazio | D39: Terigranit | E39: 14990 | F39: =E39*(1-$F$2) -> 8994
A40: 19668 | B40: SL-403-R antracite | C40: RIVELATO Мойка SCALINO SL-403-R 1-чаш 445*450 antracite | D40: Terigranit | E40: 14990 | F40: =E40*(1-$F$2) -> 8994
...

Sheet Содержание
F2: Навигация по каталогу цен
F3: Описание | G3: Ссылки
G4: Гранит | H4: Нерж. Сталь
F5: Смесители | G5: Смесители
F6: Дозаторы | G6: Дозаторы
F7: Аксессуары | G7: Аксессуары
F8: База 400 mm | G8: 400 | H8: 400
F9: База 450 mm | G9: 450 | H9: 450
F10: База 500 mm | G10: 500 | H10: 500
F11: База 600 mm | G11: 600 | H11: 600
F12: База 800 mm | G12: 800 | H12: 800
F13: База 900 mm | G13: 900 | H13: 900
F14: Общий прайс | G14: Общий прайс
F15: Содержание

Sheet Смесители
E2: Скидка | F2: ='Общий прайс'!F4 -> 0.4
K3: Навигация по каталогу цен
A4: Изображение | B4: Модель | C4: Код товара | D4: Цвет | E4: Цена в ₽ с НДС | G4: Особенности и характеристики | K4: Описание | L4: Ссылки
E5: РРЦ | F5: Закуп | G5: Условные обозначения | I5: Общее описание характеристик | L5: Гранит | M5: Нерж. Сталь
A7: Смесители с фильтром | K7: Дозаторы | L7: Дозаторы
A8: Adria | E8: Фото в интерьере | I8: • 5 лет гарантия • Смеситель с двумя керамическими картриджами для питьевой и технической подачи воды • Фильтрованная вода подается в по выделенному каналу в индивидуальный аэратор • Гибкий излив фиксируется магнитом. Цвет излива классический черный • Рычаг технической воды имеет ограничение хода* - обеспечивает полноценное функционирование при минимальном расстоянии к стеновой панели *Данная опция только в цветах PVD black (ПВД блэк), BS нерж. Сталь брашированная (БС) • Общая высота смесителя 505 mm от нижней точки декоративной шайбы | K8: Аксессуары | L8: Аксессуары
B9: ='Общий прайс'!C342 -> Rivelato Смеситель для кухни Adria U-обр. гибкий излив с краном питьевой воды D-35мм PVD black арт.1523517 PVD black | C9: ='Общий прайс'!A342 -> 18726 | D9: PVD black | E9: ='Общий прайс'!E342 -> 28990 | F9: =E9*(1-$F$2) -> 17394 | H9: • Марка стали SUS 304 • Картридж с ограничением хода • Подключение фильтра для воды • Гибкий излив • Вращение излива на 360° | K9: База 400 mm | L9: 400 | M9: 400
B10: ='Общий прайс'!C343 -> Rivelato Смеситель для кухни Adria U-обр. гибкий излив с краном питьевой воды D-35мм antracite/cromo арт.1523517 antracite cromo | C10: ='Общий прайс'!A343 -> 18571 | D10: antracite cromo | E10: ='Общий прайс'!E343 -> 25990 | F10: =E10*(1-$F$2) -> 15594 | K10: База 450 mm | L10: 450 | M10: 450
B11: ='Общий прайс'!C344 -> Rivelato Смеситель для кухни Adria U-обр. гибкий излив с краном питьевой воды D-35мм antracite/oro арт.1523517 antracite oro | C11: ='Общий прайс'!A344 -> 17646 | D11: antracite oro | E11: ='Общий прайс'!E344 -> 25990 | F11: =E11*(1-$F$2) -> 15594 | K11: База 500 mm | L11: 500 | M11: 500
B12: ='Общий прайс'!C345 -> Rivelato Смеситель для кухни Adria U-обр. гибкий излив с краном питьевой воды D-35мм brina/cromo арт.1523517 brina cromo | C12: ='Общий прайс'!A345 -> 18572 | D12: brina cromo | E12: ='Общий прайс'!E345 -> 25990 | F12: =E12*(1-$F$2) -> 15594 | K12: База 600 mm | L12: 600 | M12: 600
B13: ='Общий прайс'!C346 -> Rivelato Смеситель для кухни Adria U-обр. гибкий излив с краном питьевой воды D-35мм brina/oro арт1523517 brina oro | C13: ='Общий прайс'!A346 -> 17647 | D13: brina oro | E13: ='Общий прайс'!E346 -> 25990 | F13: =E13*(1-$F$2) -> 15594 | K13: База 800 mm | L13: 800 | M13: 800
B14: ='Общий прайс'!C347 -> Rivelato Смеситель для кухни Adria U-обр. гибкий излив с краном питьевой воды D-35мм brushed арт.1523517 BS нерж. Сталь брашированная | C14: ='Общий прайс'!A347 -> 18727 | D14: BS нерж. Сталь брашированная | E14: ='Общий прайс'!E347 -> 27990 | F14: =E14*(1-$F$2) -> 16794 | K14: База 900 mm | L14: 900 | M14: 900
B15: ='Общий прайс'!C348 -> Rivelato Смеситель для кухни Adria U-обр. гибкий излив с краном питьевой воды D-35мм cromo арт.1523517 cromo | C15: ='Общий прайс'!A348 -> 17649 | D15: cromo | E15: ='Общий прайс'!E348 -> 25990 | F15: =E15*(1-$F$2) -> 15594 | K15: Общий прайс | L15: Общий прайс
B16: ='Общий прайс'!C349 -> Rivelato Смеситель для кухни Adria U-обр. гибкий излив с краном питьевой воды D-35мм grigio metallizzato/cromo арт.1523517 grigio cromo | C16: ='Общий прайс'!A349 -> 17648 | D16: grigio cromo | E16: ='Общий прайс'!E349 -> 25990 | F16: =E16*(1-$F$2) -> 15594 | K16: Содержание
B17: ='Общий прайс'!C350 -> Rivelato Смеситель для кухни Adria U-обр. гибкий излив с краном питьевой воды D-35мм nero/cromo арт.1523517 nero cromo | C17: ='Общий прайс'!A350 -> 18573 | D17: nero cromo | E17: ='Общий прайс'!E350 -> 25990 | F17: =E17*(1-$F$2) -> 15594
B18: ='Общий прайс'!C351 -> Rivelato Смеситель для кухни Adria U-обр. гибкий излив с краном питьевой воды D-35мм nero/oro арт.1523517 nero oro | C18: ='Общий прайс'!A351 -> 17650 | D18: nero oro | E18: ='Общий прайс'!E351 -> 25990 | F18: =E18*(1-$F$2) -> 15594
A19: Acio | E19: Фото в интерьере | I19: • 5 лет гарантия • Смеситель с одним керамическими мульти-картриджем для питьевой и технической подачи воды • Фильтрованная вода подается в по выделенному каналу путем нажатия на клавишу, расположенную противоположной стороны основного рычага • Выдвижной излив гибкий длинна 1 метр. Цвет гибкой подводки черный плетённый • Общая высота смесителя от нижней точки декоративной шайбы 464 mm
B20: ='Общий прайс'!C415 -> Rivelato Смеситель для кухни ACIO U-обр.с выдвижной лейкой и краном питьевой воды D-35мм antracite арт.1927515 antracite | C20: ='Общий прайс'!A415 -> 19183 | D20: antracite | E20: ='Общий прайс'!E415 -> 29990 | F20: =E20*(1-$F$2) -> 17994 | H20: • Марка стали SUS 304 • Картридж с ограничением хода • Подача фильтрованной воды • Выдвижная лейка • Вращение излива на 360°
B21: ='Общий прайс'!C416 -> Rivelato Смеситель для кухни ACIO U-обр.с выдвижной лейкой и краном питьевой воды D-35мм brina арт.1927515 brina | C21: ='Общий прайс'!A416 -> 19184 | D21: brina | E21: ='Общий прайс'!E416 -> 29990 | F21: =E21*(1-$F$2) -> 17994
B22: ='Общий прайс'!C417 -> Rivelato Смеситель для кухни ACIO U-обр. с выдвижной лейкой и краном питьевой воды D-35мм brushed арт.1927515 BS нерж. Сталь брашированная | C22: ='Общий прайс'!A417 -> 19185 | D22: BS нерж. Сталь брашированная | E22: ='Общий прайс'!E417 -> 31990 | F22: =E22*(1-$F$2) -> 19194
B23: ='Общий прайс'!C418 -> Rivelato Смеситель для кухни ACIO U-обр.с выдвижной лейкой и краном питьевой воды D-35мм nero арт.1927515 nero | C23: ='Общий прайс'!A418 -> 19161 | D23: nero | E23: ='Общий прайс'!E418 -> 29990 | F23: =E23*(1-$F$2) -> 17994
A24: Almara | E24: Фото в интерьере | I24: • 5 лет гарантия • Керамический мульти-картридж для подачи питьевой и технической воды (два в одном) • Отдельный аэратор для фильтрованной воды. Подается в по выделенному каналу • Гибкий излив фиксируется магнитом. Цвет гибкого излива классический черный. Кнопка для вкл. опции душ • Рычаг с огранич.хода - обеспечивает полноценную работу при минимальном сближении к стеновой панели • Общая высота смесителя 527 mm от нижней точки корпуса
B25: ='Общий прайс'!C419 -> Rivelato Смеситель для кухни ALMARA U-обр. гибкий излив с краном питьевой воды D-35мм antracite арт.1526515 antracite | C25: ='Общий прайс'!A419 -> 19167 | D25: antracite | E25: ='Общий прайс'!E419 -> 30990 | F25: =E25*(1-$F$2) -> 18594 | H25: • Марка стали SUS 304 • Картридж с ограничением хода • Подключение фильтра для воды • Гибкий излив • Включение режима душ
B26: ='Общий прайс'!C420 -> Rivelato Смеситель для кухни ALMARA U-обр. гибкий излив с краном питьевой воды D-35мм brina арт.1526515 brina | C26: ='Общий прайс'!A420 -> 19163 | D26: brina | E26: ='Общий прайс'!E420 -> 30990 | F26: =E26*(1-$F$2) -> 18594
B27: ='Общий прайс'!C421 -> Rivelato Смеситель для кухни ALMARA U-обр. гибкий излив с краном питьевой воды D-35мм brushed арт.1526515 BS нерж. Сталь брашированная | C27: ='Общий прайс'!A421 -> 19166 | D27: BS нерж. Сталь брашированная | E27: ='Общий прайс'!E421 -> 32990 | F27: =E27*(1-$F$2) -> 19794
B28: ='Общий прайс'!C422 -> Rivelato Смеситель для кухни ALMARA U-обр. гибкий излив с краном питьевой воды D-35мм nero арт.1526515 nero | C28: ='Общий прайс'!A422 -> 19165 | D28: nero | E28: ='Общий прайс'!E422 -> 30990 | F28: =E28*(1-$F$2) -> 18594
A29: Eterna | E29: Фото в интерьере | I29: • 5 лет гарантия • Керамический мульти-картридж для подачи питьевой и технической воды • Отдельный аэратор для фильтрованной воды. Подается в по выделенному каналу • Гибкий излив фиксируется магнитом. Цвет гибкого излива классический черный. • Два режима воды: Ламинарный и Душ • Рычаг с ограниченным ходом - обеспечивает полноценную работу при минимальном сближении к стеновой панели • Общая высота смесителя 535 mm от нижней точки корпуса
B30: ='Общий прайс'!C431 -> Rivelato Смеситель для кухни ETERNA U-обр. гибкий излив с краном питьевой воды D-35мм antracite арт.1524520 antracite | C30: ='Общий прайс'!A431 -> 19174 | D30: antracite | E30: ='Общий прайс'!E431 -> 30990 | F30: =E30*(1-$F$2) -> 18594 | H30: • Марка стали SUS 304 • Картридж с ограничением хода • Подключение фильтра для воды • Гибкий излив • Включение режима душ
B31: ='Общий прайс'!C432 -> Rivelato Смеситель для кухни ETERNA U-обр. гибкий излив с краном питьевой воды D-35мм brina арт.1524520 brina | C31: ='Общий прайс'!A432 -> 19164 | D31: brina | E31: ='Общий прайс'!E432 -> 30990 | F31: =E31*(1-$F$2) -> 18594
B32: ='Общий прайс'!C433 -> Rivelato Смеситель для кухни ETERNA U-обр. гибкий излив с краном питьевой воды D-35мм brushed арт.1524520 BS нерж. Сталь брашированная | C32: ='Общий прайс'!A433 -> 19175 | D32: BS нерж. Сталь брашированная | E32: ='Общий прайс'!E433 -> 32990 | F32: =E32*(1-$F$2) -> 19794
B33: ='Общий прайс'!C434 -> Rivelato Смеситель для кухни ETERNA U-обр. гибкий излив с краном питьевой воды D-35мм nero арт.1524520 nero | C33: ='Общий прайс'!A434 -> 19176 | D33: nero | E33: ='Общий прайс'!E434 -> 30990 | F33: =E33*(1-$F$2) -> 18594
A34: Livo | E34: Фото в интерьере | I34: • 5 лет гарантия • Керамический мульти-картридж для подачи питьевой и технической воды с ограничением хода, обеспечивает полноценную работу при минимальном сближении к стеновой панели • Фильтрованная вода подается в по выделенному каналу • Излив гибкий, цвет классический черный • Общая высота смесителя 452 mm от нижней точки корпуса
B35: ='Общий прайс'!C435 -> Rivelato Смеситель для кухни LIVO U-обр. гибкий излив с краном питьевой воды D-35мм antracite арт.3975280 antracite | C35: ='Общий прайс'!A435 -> 19179 | D35: antracite | E35: ='Общий прайс'!E435 -> 24990 | F35: =E35*(1-$F$2) -> 14994 | H35: • Марка стали SUS 304 • Картридж с ограничением хода • Подключение фильтра для воды • Гибкий излив
B36: ='Общий прайс'!C436 -> Rivelato Смеситель для кухни LIVO U-обр. гибкий излив с краном питьевой воды D-35мм brina арт.3975280 brina | C36: ='Общий прайс'!A436 -> 19159 | D36: brina | E36: ='Общий прайс'!E436 -> 24990 | F36: =E36*(1-$F$2) -> 14994
B37: ='Общий прайс'!C437 -> Rivelato Смеситель для кухни LIVO U-обр. гибкий излив с краном питьевой воды D-35мм brushed арт.3975280 BS нерж. Сталь брашированная | C37: ='Общий прайс'!A437 -> 19177 | D37: BS нерж. Сталь брашированная | E37: ='Общий прайс'!E437 -> 26990 | F37: =E37*(1-$F$2) -> 16194
B38: ='Общий прайс'!C438 -> Rivelato Смеситель для кухни LIVO U-обр. гибкий излив с краном питьевой воды D-35мм nero арт.3975280 nero | C38: ='Общий прайс'!A438 -> 19178 | D38: nero | E38: ='Общий прайс'!E438 -> 24990 | F38: =E38*(1-$F$2) -> 14994
A39: Porto | E39: Фото в интерьере | I39: • 5 лет гарантия • Керамический мульти-картридж для питьевой и технической подачи воды с ограничением хода, обеспечивает полноценную работу при минимальном сближении к стеновой панели • Фильтрованная вода подается в по выделенному каналу путем нажатия на кнопку, расположенной на лейке • Выдвижной излив гибкий длинна 1 метр. Цвет гибкой подводки черный плетённый • Режим душ включается клавишей на лейке • Общая высота смесителя от нижней точки декоративной шайбы 472 mm
B40: ='Общий прайс'!C439 -> Rivelato Смеситель для кухни PORTO U-обр. с выдвижной лейкой и краном питьевой воды D-35мм antracite арт.1928520 antracite | C40: ='Общий прайс'!A439 -> 19182 | D40: antracite | E40: ='Общий прайс'!E439 -> 24990 | F40: =E40*(1-$F$2) -> 14994 | H40: • Марка стали SUS 304 • Картридж с ограничением хода • Подключение фильтра для воды • Выдвижной излив • Режим включения душа
B41: ='Общий прайс'!C440 -> Rivelato Смеситель для кухни PORTO U-обр. с выдвижной лейкой и краном питьевой воды D-35мм brina арт.1928520 brina | C41: ='Общий прайс'!A440 -> 19181 | D41: brina | E41: ='Общий прайс'!E440 -> 24990 | F41: =E41*(1-$F$2) -> 14994
B42: ='Общий прайс'!C441 -> Rivelato Смеситель для кухни PORTO U-обр. с выдвижной лейкой и краном питьевой воды D-35мм brushed арт.1928520 BS нерж. Сталь брашированная | C42: ='Общий прайс'!A441 -> 19180 | D42: BS нерж. Сталь брашированная | E42: ='Общий прайс'!E441 -> 26990 | F42: =E42*(1-$F$2) -> 16194
...

Sheet Дозаторы
E2: Скидка | F2: ='Общий прайс'!F4 -> 0.4
K3: Навигация по каталогу цен
A4: Изображение | B4: Модель | C4: Код товара | D4: Цвет | E4: Цена в ₽ с НДС | G4: Особенности и характеристики | K4: Описание | L4: Ссылки
E5: РРЦ | F5: Закуп | G5: Высота | H5: Длинна носика | I5: Общее описание характеристик | L5: Гранит | M5: Нерж. Сталь
A7: Дозаторы | K7: Смесители | L7: Смесители
A8: SALVI (САЛВИ) | E8: Схема | I8: • Окраска всех наружных деталей • Помпа из нержавеющей стали • Емкость 450 mm • Длинна носика рассчитана от центра корпуса | K8: Аксессуары | L8: Аксессуары
B9: ='Общий прайс'!C444 -> Rivelato Дозатор для жидкого мыла Salvi с колбой 500 мл anthracite арт.24008 anthracite | C9: ='Общий прайс'!A444 -> 18731 | D9: anthracite (антрацит) | E9: ='Общий прайс'!E444 -> 5100 | F9: =E9*(1-$F$2) -> 3060 | G9: 66 mm | H9: 74 mm | K9: База 400 mm | L9: 400 | M9: 400
B10: ='Общий прайс'!C445 -> Rivelato Дозатор для жидкого мыла Salvi с колбой 500 мл beige scuro арт.24008 beige scuro | C10: ='Общий прайс'!A445 -> 18733 | D10: beige scuro (беж скуро) | E10: ='Общий прайс'!E445 -> 5100 | F10: =E10*(1-$F$2) -> 3060 | K10: База 450 mm | L10: 450 | M10: 450
B11: ='Общий прайс'!C446 -> Rivelato Дозатор для жидкого мыла Salvi с колбой 500 мл brina арт.24008 brina | C11: ='Общий прайс'!A446 -> 18732 | D11: brina (брина) | E11: ='Общий прайс'!E446 -> 5100 | F11: =E11*(1-$F$2) -> 3060 | K11: База 500 mm | L11: 500 | M11: 500
B12: ='Общий прайс'!C447 -> Rivelato Дозатор для жидкого мыла Salvi с колбой 500 мл brushed арт.24008 BS нерж. Сталь брашированная | C12: ='Общий прайс'!A447 -> 18736 | D12: BS нерж. Сталь брашированная (БС) | E12: ='Общий прайс'!E447 -> 5100 | F12: =E12*(1-$F$2) -> 3060 | K12: База 600 mm | L12: 600 | M12: 600
B13: ='Общий прайс'!C448 -> Rivelato Дозатор для жидкого мыла Salvi с колбой 500 мл cromo арт.24008 cromo | C13: ='Общий прайс'!A448 -> 18737 | D13: cromo (хромо) | E13: ='Общий прайс'!E448 -> 5100 | F13: =E13*(1-$F$2) -> 3060 | K13: База 800 mm | L13: 800 | M13: 800
B14: ='Общий прайс'!C449 -> Rivelato Дозатор для жидкого мыла Salvi с колбой 500 мл PVD black арт.24008 PVD black | C14: ='Общий прайс'!A449 -> 18738 | D14: PVD black (ПВД блэк) | E14: ='Общий прайс'!E449 -> 5100 | F14: =E14*(1-$F$2) -> 3060 | K14: База 900 mm | L14: 900 | M14: 900
B15: ='Общий прайс'!C450 -> Rivelato Дозатор для жидкого мыла Salvi с колбой 500 мм grigio metallizzato арт.24008 grigio metallizzato | C15: ='Общий прайс'!A450 -> 18734 | D15: grigio metallizzato | E15: ='Общий прайс'!E450 -> 5100 | F15: =E15*(1-$F$2) -> 3060 | K15: Общий прайс | L15: Общий прайс
B16: ='Общий прайс'!C451 -> Rivelato Дозатор для жидкого мыла Salvi с колбой 500 мм nero арт.24008 nero | C16: ='Общий прайс'!A451 -> 18735 | D16: nero (неро) | E16: ='Общий прайс'!E451 -> 5100 | F16: =E16*(1-$F$2) -> 3060 | K16: Содержание
B17: ='Общий прайс'!C452 -> Rivelato Дозатор для жидкого мыла Salvi с колбой 500 мм topazio арт.24008 topazio | C17: ='Общий прайс'!A452 -> 18947 | D17: topazio (топазио) | E17: ='Общий прайс'!E452 -> 5100 | F17: =E17*(1-$F$2) -> 3060
A18: RD-1000 (РД-1000) | E18: Схема | I18: • Помпа из нержавеющей стали • Емкость колбы 1000 mm • Длинна носика рассчитана от центра корпуса
B19: ='Общий прайс'!C453 -> Rivelato Дозатор большой RD-1000 anthracite арт.RD-1000 anthracite | C19: ='Общий прайс'!A453 -> 18777 | D19: anthracite (антрацит) | E19: ='Общий прайс'!E453 -> 5990 | F19: =E19*(1-$F$2) -> 3594 | G19: 90,8 mm | H19: 140 mm
B20: ='Общий прайс'!C454 -> Rivelato Дозатор большой RD-1000 beige scuro арт.RD-1000 beige scuro | C20: ='Общий прайс'!A454 -> 18780 | D20: beige scuro (беж скуро) | E20: ='Общий прайс'!E454 -> 5990 | F20: =E20*(1-$F$2) -> 3594
B21: ='Общий прайс'!C455 -> Rivelato Дозатор большой RD-1000 brina арт.RD-1000 brina | C21: ='Общий прайс'!A455 -> 18778 | D21: brina (брина) | E21: ='Общий прайс'!E455 -> 5990 | F21: =E21*(1-$F$2) -> 3594
B22: ='Общий прайс'!C456 -> Rivelato Дозатор большой RD-1000 grigio metallizzato арт.RD-1000 grigio metallizzato | C22: ='Общий прайс'!A456 -> 18781 | D22: grigio metallizzatoat (гриджио металлизато) | E22: ='Общий прайс'!E456 -> 5990 | F22: =E22*(1-$F$2) -> 3594
B23: ='Общий прайс'!C457 -> Rivelato Дозатор большой RD-1000 nero арт.RD-1000 nero | C23: ='Общий прайс'!A457 -> 18782 | D23: nero (неро) | E23: ='Общий прайс'!E457 -> 5990 | F23: =E23*(1-$F$2) -> 3594
B24: ='Общий прайс'!C458 -> Rivelato Дозатор большой RD-1000 topazio арт.RD-1000 topazio | C24: ='Общий прайс'!A458 -> 18779 | D24: topazio (топазио) | E24: ='Общий прайс'!E458 -> 5990 | F24: =E24*(1-$F$2) -> 3594
A25: RD-500 (РД-500) | E25: Схема | I25: • Помпа из нержавеющей стали • Емкость колбы 500 mm • Длинна носика рассчитана от центра корпуса • Пьедестал брашированный (цвет)
B26: ='Общий прайс'!C459 -> Rivelato Дозатор малый RD-500 anthracite арт.RD-500 anthracite | C26: ='Общий прайс'!A459 -> 18769 | D26: anthracite (антрацит) | E26: ='Общий прайс'!E459 -> 3200 | F26: =E26*(1-$F$2) -> 1920 | G26: 66 mm | H26: 74 mm
B27: ='Общий прайс'!C460 -> Rivelato Дозатор малый RD-500 beige scuro арт.RD-500 beige scuro | C27: ='Общий прайс'!A460 -> 18771 | D27: beige scuro (беж скуро) | E27: ='Общий прайс'!E460 -> 3200 | F27: =E27*(1-$F$2) -> 1920
B28: ='Общий прайс'!C461 -> Rivelato Дозатор малый RD-500 brina арт.RD-500 brina | C28: ='Общий прайс'!A461 -> 18768 | D28: brina (брина) | E28: ='Общий прайс'!E461 -> 3200 | F28: =E28*(1-$F$2) -> 1920
B29: ='Общий прайс'!C462 -> Rivelato Дозатор малый RD-500 grigio metallizzato арт.RD-500 grigio metallizzato | C29: ='Общий прайс'!A462 -> 18772 | D29: grigio metallizzatoat (гриджио металлизато) | E29: ='Общий прайс'!E462 -> 3200 | F29: =E29*(1-$F$2) -> 1920
B30: ='Общий прайс'!C463 -> Rivelato Дозатор малый RD-500 nero арт.RD-500 nero | C30: ='Общий прайс'!A463 -> 18773 | D30: nero (неро) | E30: ='Общий прайс'!E463 -> 3200 | F30: =E30*(1-$F$2) -> 1920
B31: ='Общий прайс'!C464 -> Rivelato Дозатор малый RD-500 topazio арт.RD-500 topazio | C31: ='Общий прайс'!A464 -> 18770 | D31: topazio (топазио) | E31: ='Общий прайс'!E464 -> 3200 | F31: =E31*(1-$F$2) -> 1920

Sheet Аксессуары
E2: Скидка | F2: ='Общий прайс'!F5 -> 0.4
K3: Навигация по каталогу цен
A4: Изображение | B4: Модель | C4: Код товара | D4: Цвет | E4: Цена в ₽ с НДС | G4: Особенности и характеристики | K4: Описание | L4: Ссылки
E5: РРЦ | F5: Закуп | G5: Ширина | H5: Длинна | I5: Общее описание характеристик | L5: Гранит | M5: Нерж. Сталь
A7: Сервировочно-разделочная доска | K7: Смесители | L7: Смесители
A8: Сервировочно-разделочная для кухонной мойки LOCUS | E8: В интерьере фото | G8: Изображение схемы | I8: • Для всех моделей матриал: массив бука • Цвет природный: натуральный бук • Многофункциональный столик-доска для разделки овощей, фруктов, мяса или рыбы • Возможность использовать в качестве столика для подачи готовых блюд • Дизайн каждой доски разработан с учетом логики заложенном команд дизайнеров, создавших коллекции: - Locus (Локус) от Артемия Лебедева; - Raum (Раум) от немецкой студии; - Axel (Аксель) от Алессандро Росси итальянского дизайн ателье. ЭФФЕКТ ПАРЯЩЕЙ НАД ЧАШЕЙ МОЙКИ ДОСКИ • Не требует место для хранения так как идеально дополняют композицию кухонной сантехники | K8: Дозаторы | L8: Дозаторы
B9: ='Общий прайс'!C471 -> Rivelato Доска для мойки LS_V3 300*540*39 мм с лого бук массивLS_V3 | C9: ='Общий прайс'!A471 -> 18358 | D9: Натуральный бук | E9: ='Общий прайс'!E471 -> 4500 | F9: =E9*(1-$F$2) -> 2700 | G9: 300 mm | H9: 540 mm | K9: База 400 mm | L9: 400 | M9: 400
K10: База 450 mm | L10: 450 | M10: 450
K11: База 500 mm | L11: 500 | M11: 500
K12: База 600 mm | L12: 600 | M12: 600
K13: База 800 mm | L13: 800 | M13: 800
K14: База 900 mm | L14: 900 | M14: 900
K15: Общий прайс | L15: Общий прайс
K16: Содержание
A18: Сервировочно-разделочная для кухонной мойки RAUM | E18: В интерьере фото | G18: Изображение схемы
B19: ='Общий прайс'!C472 -> Rivelato Доска для мойки RM_V3 300*540*39 мм с лого бук массивRM_V3 | C19: ='Общий прайс'!A472 -> 18357 | D19: Натуральный бук | E19: ='Общий прайс'!E472 -> 4500 | F19: =E19*(1-$F$2) -> 2700 | G19: 300 mm | H19: 540 mm
A20: Сервировочно-разделочная для кухонной мойки AXEL | E20: В интерьере фото | G20: Изображение схемы
B21: ='Общий прайс'!C468 -> Rivelato Доска для мойки AL_V3 300*550*39 мм с лого бук массивAL_V3 | C21: ='Общий прайс'!A468 -> 18359 | D21: Натуральный бук | E21: ='Общий прайс'!E468 -> 4500 | F21: =E21*(1-$F$2) -> 2700 | G21: 300 mm | H21: 550 mm
A22: Разделочная доска для кухонных моек из HPL
A23: Разделочная доска для кухонных моек LINO и NOBILE из HPL | E23: В интерьере фото | G23: Изображение схемы | I23: • Доска разделочная из прочного современного материала HPL • Устанавливается в фальц-ступень, расположенную в чаше моек • Ускоряет процесс приготовления вкусных блюд для любимой семьи • Не требует место для хранения так как логично дополняет композицию кухонной сантехники • Обратите внимание при выборе на артикулы - доски подходят к конкретным моделям
B24: ='Общий прайс'!C469 -> RIVELATO Разделочная доска из HPL (высокопрочный ламинат) для кухонных моек LINO и NOBILE 376*210*12 mm арт.79934 GR_376 | C24: ='Общий прайс'!A469 -> 19438 | D24: Графит (темно-серый) | E24: ='Общий прайс'!E469 -> 5990 | F24: =E24*(1-$F$2) -> 3594 | G24: 376 mm | H24: 210 mm
B25: ='Общий прайс'!C470 -> RIVELATO Разделочная доска из HPL (высокопрочный ламинат) для кухонных моек LINO и NOBILE 376*210*12 mm арт.63045 CM_376 | C25: ='Общий прайс'!A470 -> 19439 | D25: Светлый | E25: ='Общий прайс'!E470 -> 5990 | F25: =E25*(1-$F$2) -> 3594 | G25: 376 mm | H25: 210 mm
A26: Разделочная доска для кухонных моек TESORO и SCALINOиз HPL | E26: В интерьере фото | G26: Изображение схемы
B27: ='Общий прайс'!C474 -> RIVELATO Разделочная доска из HPL (высокопрочный ламинат) для кухонных моек TESORO 390*210*12 mm арт.79934 GR_390 | C27: ='Общий прайс'!A474 -> 19440 | D27: Графит (темно-серый) | E27: ='Общий прайс'!E474 -> 5990 | F27: =E27*(1-$F$2) -> 3594 | G27: 390 mm | H27: 210 mm
B28: ='Общий прайс'!C473 -> RIVELATO Разделочная доска из HPL (высокопрочный ламинат) для кухонных моек TESORO 390*210*12 mm арт.63045 CM_390 | C28: ='Общий прайс'!A473 -> 19441 | D28: Светый | E28: ='Общий прайс'!E473 -> 5990 | F28: =E28*(1-$F$2) -> 3594 | G28: 390 mm | H28: 210 mm
A29: Разделочные доски из закалённого стекла для кухонных моек FONDE | E29: В интерьере фото | G29: Изображение схемы | I29: • Доска из закаленного стекла - отличное дополнение к кухонной мойке FONDE (ФОНДЕ) как к одночашевой, так и двухчашейвой. • Рекомендуется использовать 1-ну доску • Рекомендация. Для завершённости композиции используют две доски разных или одного цветов - это позволяет закрыть поверхность чаш (и). • Не требует место для хранения так как логично сочетается с комбинации с кухонной сантехникой.
B30: ='Общий прайс'!C475 -> RIVELATO Разделочные доски из закалённого стекла 405 х 430 (TAGCRLUX) K2 NeroFN-8638 K2 Nero | C30: ='Общий прайс'!A475 -> 19381 | D30: Черный | E30: ='Общий прайс'!E475 -> 12140 | F30: =E30*(1-$F$2) -> 7284 | G30: 430 mm | H30: 405 mm
B31: ='Общий прайс'!C476 -> RIVELATO Разделочные доски из закалённого стекла 405 х 430 (TAGCRLUX) К1 BiancaFN-8638 К1 Bianca | C31: ='Общий прайс'!A476 -> 19378 | D31: Белый | E31: ='Общий прайс'!E476 -> 12140 | F31: =E31*(1-$F$2) -> 7284 | G31: 430 mm | H31: 405 mm
A32: Ролл-мат
A33: Ролл-мат силиконовый | E33: В интерьере фото | G33: Изображение схемы | I33: • Универсальный ролл-мат для любой модели Rivelato и RINOX так как устанавливается на борта чаши • Термостойкий | Складывается в 4 раза • Внутри ребра жесткости • Снаружи устойчивое покрытие из силикона | софт-тач покрытие - тактильно приятно
B34: ='Общий прайс'!C477 -> Rivelato Ролл-мат силиконовый черный 500 х 288 мм, арт.SRL-425 | C34: ='Общий прайс'!A477 -> 18651 | D34: Черный | E34: ='Общий прайс'!E477 -> 6990 | F34: =E34*(1-$F$2) -> 4194 | G34: 500 mm | H34: 288 mm
B35: ='Общий прайс'!C478 -> RIVELATO Ролл-мат силиконовый черный 378 х 210 мм LINO и NOBILE арт.SRL-378 | C35: ='Общий прайс'!A478 -> 19449 | D35: Черный | E35: ='Общий прайс'!E478 -> 5990 | F35: =E35*(1-$F$2) -> 3594 | G35: 378 mm | H35: 210 mm | I35: • Универсальный ролл-мат для моделей LINO (ЛИНО) и NOBILE (НОБИЛЕ) от Rivelato (Ривелато) • Термостойкий | Складывается в 4 раза • Внутри ребра жесткости • Снаружи устойчивое покрытие из силикона | софт-тач покрытие - тактильно приятно
B36: ='Общий прайс'!C479 -> RIVELATO Ролл-мат силиконовый черный 390 х 210 мм TESORO арт.SRL-390 | C36: ='Общий прайс'!A479 -> 19450 | D36: Черный | E36: ='Общий прайс'!E479 -> 5990 | F36: =E36*(1-$F$2) -> 3594 | G36: 390 mm | H36: 210 mm | I36: • Универсальный ролл-мат для моделей TESORO (ТЕЗОРО) и SCALINO (СКАЛИНО) от Rivelato (Ривелато) • Термостойкий | Складывается в 4 раза • Внутри ребра жесткости • Снаружи устойчивое покрытие из силикона | софт-тач покрытие - тактильно приятно
A37: Коландер
A38: Коландер | E38: В интерьере фото | G38: Фото в интерьере №2 | I38: • Модель RK-1845 только для модели AXEL (АКСЕЛЬ), • Удобное устройство для: - промывка фруктов или овощей; - разморозка рыбы или мяса.
B39: ='Общий прайс'!C466 -> Rivelato Многофункциональный коландер для моек нержавейка с пластиковыми ручками RK-1845 | C39: ='Общий прайс'!A466 -> 18187 | D39: Нержавеющая сталь | E39: ='Общий прайс'!E466 -> 6990 | F39: =E39*(1-$F$2) -> 4194 | G39: 390 mm | H39: 150 mm
B40: ='Общий прайс'!C467 -> RIVELATO Коландер из нержавеющей стали (392x169)FN-8638 | C40: ='Общий прайс'!A467 -> 19380 | D40: Нержавеющая сталь | E40: ='Общий прайс'!E467 -> 10500 | F40: =E40*(1-$F$2) -> 6300 | G40: 392 mm | H40: 169 mm | I40: • Модель FN-8638 только для модели FONDE (ФОНДЕ) и TESORO (ТЕЗОРО) • Удобное устройство для: - промывка фруктов или овощей; - разморозка рыбы или мяса.
A41: Сливная арматура рекомендовано для кухонных моек RAUM и BERKANA
A42: Комплект сливной арматуры д/1 чаш. мойки | E42: В интерьере фото | G42: Изображение схемы | I42: • Аксессуар рекомендуется для коллекции моек AXEL (АКСЕЛЬ) врезной монтаж и BERKANA (БЕРКАНА) универсальный монтаж. • Вариативность. Возможность вывести проект на игре цвета - сочетание черного круглого перелива и слива с основным цветом кухонной мойки, смесителя и дозатора. Уход от типовых решений "из коробки" - хромированного комплекта сливной арматуры. • Выбор между классическим способом поднятия сливной корзины или при помощи кнопки полуавтомата. Удобно при замачивании посуды.
B43: ='Общий прайс'!C486 -> GRANFEST Сифон одинарный 3 1/2" черный с круглым переливом и отводом арт. GF-12PB2-P2A черн | C43: ='Общий прайс'!A486 -> 18424 | D43: Черный | E43: ='Общий прайс'!E486 -> 4080 | F43: =E43*(1-$F$2) -> 2448
...

Sheet Гранит 400
G2: Скидка
G3: Холодное литье | I3: ='Общий прайс'!$F$2 -> 0.4 | N3: Навигация по каталогу цен
A4: Изображение | B4: Модель | C4: Код товара | D4: Цвет | E4: Размер в mm | G4: Тип | H4: Цена в ₽ с НДС | J4: Особенности | K4: Рекомендуемые | L4: Общие характеристики | N4: Описание | O4: Ссылки
E5: Общий | F5: Чаша | G5: Монтажа | H5: РРЦ | I5: Закуп | K5: аксессуары | O5: Гранит | P5: Нерж. Сталь
A7: Материал: TERIGRANIT (технология хлодного литья) Гарантия 15 лет | N7: Смесители | O7: Смесители
A8: TESORO 405 | C8: Рендер с интерьером | E8: Схема с размерами | G8: Объём упаковки: 0,11 м³ • Вес нетто: 7,7 кг • Вес брутто: 11,9 кг | L8: • Гарантия 15 лет • Terigranit (Теригранит): В основе материала — наноструктура кристаллов натурального кварца высшей очистки, армирующее полиэфирное волокно Terital (Теритал): ✓ Сверхпрочность — ударопрочность, термостойкость от −50 °C до +280 °C, на 70% прочнее аналогов. ✓ Гигиена — антибактериальная защита в материале, не впитывает запахи и красители. ✓ Лёгкий уход — гидрофобная поверхность: вода скатывается. ✓ Тишина — максимальное шумопоглощение, без «барабанного» эффекта стали. ✓ Долговечный дизайн — цвет не выгорает. ✓ Безопасность — сертифицированное европейское сырьё, допуск к пищевым продуктам. • Комплектация: сифон с доп.выводом для ПММ, крепеж, паспорт изделия, монтажный шаблон. • Упаковка капсульного типа: целлюлозный пятислойный влагостойкий картон, ребра жесткости, мойка обернута в полиэтиленовый пакет. | N8: Дозаторы | O8: Дозаторы
B9: ='Общий прайс'!C190 -> RIVELATO Мойка TESORO 405 1-чаш 400*510 antracite арт.TR-405 antracite | C9: 19254 | D9: antracite | E9: 400*510 | F9: 350*370*190 | G9: • Врезной | H9: ='Общий прайс'!E190 -> 15990 | I9: =H9*(1-$I$3) -> 9594 | J9: • Фальц-ступень для аксессуаров доска или ролл-мат • Прямоугольный перелив • Сливное отверстие смещено к задней стенке | K9: • Разделочная доска HPL Код товара № 19440, 19441 • Ролл-мат Код товара № 19450 | N9: Аксессуары | O9: Аксессуары
B10: ='Общий прайс'!C191 -> RIVELATO Мойка TESORO 405 1-чаш 400*510 beige scuro арт.TR-405 beige scuro | C10: 19261 | D10: beige scuro | H10: ='Общий прайс'!E191 -> 15990 | I10: =H10*(1-$I$3) -> 9594 | N10: База 450 mm | O10: 450 | P10: 450
B11: ='Общий прайс'!C192 -> RIVELATO Мойка TESORO 405 1-чаш 400*510 brina арт.TR-405 brina | C11: 19272 | D11: brina | H11: ='Общий прайс'!E192 -> 15990 | I11: =H11*(1-$I$3) -> 9594 | N11: База 500 mm | O11: 500 | P11: 500
B12: ='Общий прайс'!C193 -> RIVELATO Мойка TESORO 405 1-чаш 400*510 grigio metallizzato арт.TR-405 grigio metallizzato | C12: 19284 | D12: grigio metallizzato | H12: ='Общий прайс'!E193 -> 15990 | I12: =H12*(1-$I$3) -> 9594 | N12: База 600 mm | O12: 600 | P12: 600
B13: ='Общий прайс'!C194 -> RIVELATO Мойка TESORO 405 1-чаш 400*510 nero арт.TR-405 nero | C13: 19295 | D13: nero | H13: ='Общий прайс'!E194 -> 15990 | I13: =H13*(1-$I$3) -> 9594 | N13: База 800 mm | O13: 800 | P13: 800
B14: ='Общий прайс'!C195 -> RIVELATO Мойка TESORO 405 1-чаш 400*510 topazio арт.TR-405 topazio | C14: 19307 | D14: topazio | H14: ='Общий прайс'!E195 -> 15990 | I14: =H14*(1-$I$3) -> 9594 | N14: База 900 mm | O14: 900 | P14: 900
A15: LINO 354 | C15: Рендер с интерьером | E15: Схема с размерами | G15: Объём упаковки: 0,11 м³ • Вес нетто: 6,6 кг • Вес брутто: 10,8 кг | N15: Общий прайс | O15: Общий прайс
B16: ='Общий прайс'!C94 -> RIVELATO Мойка LINO 354 1-чаш 350*440 antracite арт.LN-354 antracite | C16: 19205 | D16: antracite | E16: 350*440 | F16: 300*360*200 | G16: • Универсальный | H16: ='Общий прайс'!E94 -> 14990 | I16: =H16*(1-$I$3) -> 8994 | J16: • Монтаж универсальный • На дне направляющие воду лучи • Наличие фальц-ступени для доски или ролл-мата • Прямоугольный перелив | K16: • Разделочная доска HPL Код товара № 19438, 19439 • Ролл-мат Код товара № 19449 | N16: Содержание
B17: ='Общий прайс'!C95 -> RIVELATO Мойка LINO 354 1-чаш 350*440 beige scuro арт.LN-354 beige scuro | C17: 19196 | D17: beige scuro | H17: ='Общий прайс'!E95 -> 14990 | I17: =H17*(1-$I$3) -> 8994
B18: ='Общий прайс'!C96 -> RIVELATO Мойка LINO 354 1-чаш 350*440 brina арт.LN-354 brina | C18: 19207 | D18: brina | H18: ='Общий прайс'!E96 -> 14990 | I18: =H18*(1-$I$3) -> 8994
B19: ='Общий прайс'!C97 -> RIVELATO Мойка LINO 354 1-чаш 350*440 grigio metallizzato арт.LN-354 grigio metallizzato | C19: 19209 | D19: grigio metallizzato | H19: ='Общий прайс'!E97 -> 14990 | I19: =H19*(1-$I$3) -> 8994
B20: ='Общий прайс'!C98 -> RIVELATO Мойка LINO 354 1-чаш 350*440 nero арт.LN-354 nero | C20: 19206 | D20: nero | H20: ='Общий прайс'!E98 -> 14990 | I20: =H20*(1-$I$3) -> 8994
B21: ='Общий прайс'!C99 -> RIVELATO Мойка LINO 354 1-чаш 350*440 topazio арт.LN-354 topazio | C21: 19208 | D21: topazio | H21: ='Общий прайс'!E99 -> 14990 | I21: =H21*(1-$I$3) -> 8994
A22: BERKANA 25 | C22: Рендер с интерьером | E22: Схема с размерами | G22: Объём упаковки: 0,111 м³ • Вес нетто: 7,40 кг • Вес брутто: 12,20 кг
B23: ='Общий прайс'!C70 -> RIVELATO Мойка BERKANA 25 подст.монтаж 1-чаш 305*455 antracite арт.BK-25 antracite | C23: 18145 | D23: antracite | E23: 310*460 | F23: 250*400*190 | G23: • Универсальный | H23: ='Общий прайс'!E71 -> 19380 | I23: =H23*(1-$I$3) -> 11628 | J23: • Универсальный монтаж • Классический круглый перелив | K23: • Ролл-мат Код товара № 18651 • Черный сифон Код товара № 18425, 18424
B24: ='Общий прайс'!C71 -> RIVELATO Мойка BERKANA 25 подст.монтаж 1-чаш 305*455 beige scuro арт.BK-25 beige scuro | C24: 18146 | D24: beige scuro | H24: ='Общий прайс'!E72 -> 19380 | I24: =H24*(1-$I$3) -> 11628
B25: ='Общий прайс'!C72 -> RIVELATO Мойка BERKANA 25 подст.монтаж 1-чаш 305*455 brina арт.BK-25 brina | C25: 18147 | D25: brina | H25: ='Общий прайс'!E73 -> 19380 | I25: =H25*(1-$I$3) -> 11628
B26: ='Общий прайс'!C73 -> RIVELATO Мойка BERKANA 25 подст.монтаж 1-чаш 305*455 grigio metallizzato арт.BK-25 grigio metallizzato | C26: 18149 | D26: grigio metallizzato | H26: ='Общий прайс'!E74 -> 19380 | I26: =H26*(1-$I$3) -> 11628
B27: ='Общий прайс'!C74 -> RIVELATO Мойка BERKANA 25 подст.монтаж 1-чаш 305*455 nero арт.BK-25 nero | C27: 18148 | D27: nero | H27: ='Общий прайс'!E75 -> 19380 | I27: =H27*(1-$I$3) -> 11628
B28: ='Общий прайс'!C75 -> RIVELATO Мойка BERKANA 25 подст.монтаж 1-чаш 305*455 topazio арт.BK-25 topazio | C28: 18150 | D28: topazio | H28: ='Общий прайс'!E76 -> 20910 | I28: =H28*(1-$I$3) -> 12546

Sheet Гранит 450
G1: Скидка
G2: Холодное литье | I2: ='Общий прайс'!$F$2 -> 0.4
G3: Горячее литье | I3: ='Общий прайс'!$F$3 -> 0.4
N4: Навигация по каталогу цен
A5: Изображение | B5: Модель | C5: Код товара | D5: Цвет | E5: Размер в mm | G5: Тип | H5: Цена в ₽ с НДС | J5: Особенности | K5: Рекомендуемые | L5: Общие характеристики | N5: Описание | O5: Ссылки
E6: Общий | F6: Чаша | G6: Монтажа | H6: РРЦ | I6: Закуп | K6: аксессуары | O6: Гранит | P6: Нерж. Сталь
A8: Материал: Terigranit (технология хлодного литья) Гарантия 15 лет | N8: Смесители | O8: Смесители
A9: SCALINO 353 - НОВИНКА | C9: Рендер с интерьером | E9: Схема с размерами | G9: Объём упаковки: 0,11 м³ • Вес нетто: 7,1 кг • Вес брутто: 11,3 кг | N9: Дозаторы | O9: Дозаторы
A10: #VALUE! | B10: ='Общий прайс'!C28 -> RIVELATO Мойка SCALINO SL-353 1-чаш 445*400 grigio metallizzato | C10: ='Общий прайс'!A28 -> 19703 | D10: grigio metallizzato | E10: 400*445 | F10: 350 х 370 х 190 | G10: • Подстольный | H10: ='Общий прайс'!E28 -> 11990 | I10: =H10*(1-$I$2) -> 7194 | J10: • Фальц-ступень для аксессуаров доска или ролл-мат • Прямоугольный перелив • Крепеж в комплекте | K10: • Разделочная доска HPL • Ролл-мат | L10: • Гарантия 15 лет - Лидер по в России. • Terigranit (Теригранит): В основе материала — наноструктура кристаллов натурального кварца высшей очистки, армирующее полиэфирное волокно Terital (Теритал): ✓ Сверхпрочность — ударопрочность, термостойкость от −50 °C до +280 °C, на 70% прочнее аналогов. ✓ Гигиена — антибактериальная защита в материале, не впитывает запахи и красители. ✓ Лёгкий уход — гидрофобная поверхность: вода скатывается. ✓ Тишина — максимальное шумопоглощение, без «барабанного» эффекта стали. ✓ Долговечный дизайн — цвет не выгорает. ✓ Безопасность — сертифицированное европейское сырьё, допуск к пищевым продуктам. • Комплектация: сифон с доп.выводом для ПММ, крепеж, паспорт изделия, монтажный шаблон. • Упаковка капсульного типа: целлюлозный пятислойный влагостойкий картон, ребра жесткости, мойка обернута в полиэтиленовый пакет. | N10: Аксессуары | O10: Аксессуары
B11: ='Общий прайс'!C29 -> RIVELATO Мойка SCALINO SL-353 1-чаш 445*400 antracite | C11: ='Общий прайс'!A29 -> 19657 | D11: antracite | H11: ='Общий прайс'!E29 -> 11990 | I11: =H11*(1-$I$2) -> 7194 | N11: База 400 mm | O11: 400 | P11: 400
B12: ='Общий прайс'!C30 -> RIVELATO Мойка SCALINO SL-353 1-чаш 445*400 beige scuro | C12: ='Общий прайс'!A30 -> 19658 | D12: beige scuro | H12: ='Общий прайс'!E30 -> 11990 | I12: =H12*(1-$I$2) -> 7194 | N12: База 500 mm | O12: 500 | P12: 500
B13: ='Общий прайс'!C31 -> RIVELATO Мойка SCALINO SL-353 1-чаш 445*400 brina | C13: ='Общий прайс'!A31 -> 19659 | D13: brina | H13: ='Общий прайс'!E31 -> 11990 | I13: =H13*(1-$I$2) -> 7194 | N13: База 600 mm | O13: 600 | P13: 600
N14: База 800 mm | O14: 800 | P14: 800
N15: База 900 mm | O15: 900 | P15: 900
A16: TESORO 455-L | C16: Рендер с интерьером | E16: Схема с размерами | G16: Объём упаковки: 0,11 м³ • Вес нетто: 8,6 кг • Вес брутто: 12,8 кг | N16: Общий прайс | O16: Общий прайс
B17: ='Общий прайс'!C196 -> RIVELATO Мойка TESORO 455-L 1-чаш 450*510 antracite арт.TR-455-L antracite | C17: 19255 | D17: antracite | E17: 450*510 | F17: 440*370*200 | G17: • Врезной | H17: ='Общий прайс'!E196 -> 16990 | I17: =H17*(1-$I$2) -> 10194 | J17: • Фальц-ступень для аксессуаров доска или ролл-мат • Прямоугольный перелив • Смещенное влево сливное отверстие • Подготовка отверстий для смесителя и дозатора | K17: • Разделочная доска HPL Код товара № 19440, 19441 • Ролл-мат Код товара № 19450 | N17: Содержание
B18: ='Общий прайс'!C197 -> RIVELATO Мойка TESORO 455-L 1-чаш 450*510 beige scuro арт.TR-455-L beige scuro | C18: 19262 | D18: beige scuro | H18: ='Общий прайс'!E197 -> 16990 | I18: =H18*(1-$I$2) -> 10194
B19: ='Общий прайс'!C198 -> RIVELATO Мойка TESORO 455-L 1-чаш 450*510 brina арт.TR-455-L brina | C19: 19274 | D19: brina | H19: ='Общий прайс'!E198 -> 16990 | I19: =H19*(1-$I$2) -> 10194
B20: ='Общий прайс'!C199 -> RIVELATO Мойка TESORO 455-L 1-чаш 450*510 grigio metallizzato арт.TR-455-L grigio metallizzato | C20: 19285 | D20: grigio metallizzato | H20: ='Общий прайс'!E199 -> 16990 | I20: =H20*(1-$I$2) -> 10194
B21: ='Общий прайс'!C200 -> RIVELATO Мойка TESORO 455-L 1-чаш 450*510 nero арт.TR-455-L nero | C21: 19297 | D21: nero | H21: ='Общий прайс'!E200 -> 16990 | I21: =H21*(1-$I$2) -> 10194
B22: ='Общий прайс'!C201 -> RIVELATO Мойка TESORO 455-L 1-чаш 450*510 topazio арт.TR-455-L topazio | C22: 19308 | D22: topazio | H22: ='Общий прайс'!E201 -> 16990 | I22: =H22*(1-$I$2) -> 10194
A23: TESORO 455-R | C23: Рендер с интерьером | E23: Схема с размерами | G23: Объём упаковки: 0,11 м³ • Вес нетто: 8,6 кг • Вес брутто: 12,8 кг
B24: ='Общий прайс'!C202 -> RIVELATO Мойка TESORO 455-R 1-чаш 450*510 antracite арт.TR-455-R antracite | C24: 19256 | D24: antracite | E24: 450*510 | F24: 440*370*200 | G24: • Врезной | H24: ='Общий прайс'!E202 -> 16990 | I24: =H24*(1-$I$2) -> 10194 | J24: • Фальц-ступень для аксессуаров доска или ролл-мат • Прямоугольный перелив • Смещенное влево сливное отверстие • Подготовка отверстий для смесителя и дозатора | K24: • Разделочная доска HPL Код товара № 19440, 19441 • Ролл-мат Код товара № 19450
B25: ='Общий прайс'!C203 -> RIVELATO Мойка TESORO 455-R 1-чаш 450*510 beige scuro арт.TR-455-R beige scuro | C25: 19263 | D25: beige scuro | H25: ='Общий прайс'!E203 -> 16990 | I25: =H25*(1-$I$2) -> 10194
B26: ='Общий прайс'!C204 -> RIVELATO Мойка TESORO 455-R 1-чаш 450*510 brina арт.TR-455-R brina | C26: 19275 | D26: brina | H26: ='Общий прайс'!E204 -> 16990 | I26: =H26*(1-$I$2) -> 10194
B27: ='Общий прайс'!C205 -> RIVELATO Мойка TESORO 455-R 1-чаш 450*510 grigio metallizzato арт.TR-455-R grigio metallizzato | C27: 19286 | D27: grigio metallizzato | H27: ='Общий прайс'!E205 -> 16990 | I27: =H27*(1-$I$2) -> 10194
B28: ='Общий прайс'!C206 -> RIVELATO Мойка TESORO 455-R 1-чаш 450*510 nero арт.TR-455-R nero | C28: 19298 | D28: nero | H28: ='Общий прайс'!E206 -> 16990 | I28: =H28*(1-$I$2) -> 10194
B29: ='Общий прайс'!C207 -> RIVELATO Мойка TESORO 455-R 1-чаш 450*510 topazio арт.TR-455-R topazio | C29: 19309 | D29: topazio | H29: ='Общий прайс'!E207 -> 16990 | I29: =H29*(1-$I$2) -> 10194
A30: BERKANA 35 | C30: Рендер с интерьером | E30: Схема с размерами | G30: Объём упаковки: 0,111 м³ • Вес нетто: 10,40 кг • Вес брутто: 14,40 кг
B31: ='Общий прайс'!C76 -> RIVELATO Мойка BERKANA 35 подст.монтаж 1-чаш 415*455 antracite арт.BK-35 antracite | C31: ='Общий прайс'!A41 -> 19669 | D31: antracite | E31: 410*460 | F31: 350*400*200 | G31: • Врезной | H31: ='Общий прайс'!E76 -> 20910 | I31: =H31*(1-$I$2) -> 12546 | J31: • Универсальный монтаж • Классический круглый перелив • Рекомендуется устанавливать в паре с моделью Berkana 25 (Беркана 25) - выполняет роль доп-ой чаши | K31: • Ролл-мат Код товара № 18651 • Черный сифон Код товара № 18425, 18424
B32: ='Общий прайс'!C77 -> RIVELATO Мойка BERKANA 35 подст.монтаж 1-чаш 415*455 beige scuro арт.BK-35 beige scuro | C32: ='Общий прайс'!A42 -> 19670 | D32: beige scuro | H32: ='Общий прайс'!E77 -> 20910 | I32: =H32*(1-$I$2) -> 12546
B33: ='Общий прайс'!C78 -> RIVELATO Мойка BERKANA 35 подст.монтаж 1-чаш 415*455 brina арт.BK-35 brina | C33: ='Общий прайс'!A43 -> 19671 | D33: brina | H33: ='Общий прайс'!E78 -> 20910 | I33: =H33*(1-$I$2) -> 12546
B34: ='Общий прайс'!C79 -> RIVELATO Мойка BERKANA 35 подст.монтаж 1-чаш 415*455 grigio metallizzato арт.BK-35 grigio metallizzato | C34: 18154 | D34: grigio metallizzato | H34: ='Общий прайс'!E79 -> 20910 | I34: =H34*(1-$I$2) -> 12546
B35: ='Общий прайс'!C80 -> RIVELATO Мойка BERKANA 35 подст.монтаж 1-чаш 415*455 nero арт.BK-35 nero | C35: 18155 | D35: nero | H35: ='Общий прайс'!E80 -> 20910 | I35: =H35*(1-$I$2) -> 12546
B36: ='Общий прайс'!C81 -> RIVELATO Мойка BERKANA 35 подст.монтаж 1-чаш 415*455 topazio арт.BK-35 topazio | C36: 18156 | D36: topazio | H36: ='Общий прайс'!E81 -> 20910 | I36: =H36*(1-$I$2) -> 12546
A37: Матриал: Granoceramic (технология горячего литья)
A38: STRIA 4134 | C38: Рендер с интерьером | E38: Схема с размерами | G38: Объём упаковки: 0,11 м³ • Вес нетто: 6,15 кг • Вес брутто: 9,81 кг | L38: • Гарантия 20 лет • Granoceramic — премиум-материал с керамической душой ✓ Состав премиум-класса — кварц, смолы PMMA и керамическая глина. Твёрдость камня, глубина цвета. ✓ Технология SPR — итальянское горячее литьё. Монолитная структура без микропор, цвет по всей толщине. ✓ Антивандальность — устойчивость к царапинам, сколам и ударам тяжёлой посудой. ✓ Термостойкость — кипятком без ограничений. ✓ Гигиена 100% — нулевая пористость, антибактериальные свойства, не впитывает запахи и красители. ✓ Вечный дизайн — гладкая поверхность, насыщенный цвет не выгорает десятилетиями. • Комплектация: Сифон U-образный, паспорт изделия, крепеж, монтажный шаблон, мойка в полиэтиленовом пакете. • Упаковка: Короб из целлюлозного картона пятислойный влагостойки с ребрами жесткости внутри.
B39: ='Общий прайс'!C292 -> RIVELATO Мойка STRIA 4134 1-чаш 410*435 Bianco latte арт.SR-4134 Bianco latte | C39: 19154 | D39: Bianco latte | E39: 410*435 | F39: 340*400*210 | G39: • Подстольный | H39: ='Общий прайс'!E292 -> 34990 | I39: =H39*(1-$I$3) -> 20994 | J39: • Прямоугольный перелив • Сливное отверстие смещено к задней стенке чаши | K39: • Черный сифон Код товара № 18425, 18424
B40: ='Общий прайс'!C294 -> RIVELATO Мойка STRIA 4134 1-чаш 410*435 Grigio puro арт.SR-4134 Grigio puro | C40: 19273 | D40: Grigio puro | H40: ='Общий прайс'!E294 -> 34990 | I40: =H40*(1-$I$3) -> 20994
B41: ='Общий прайс'!C295 -> RIVELATO Мойка STRIA 4134 1-чаш 410*435 Nero profondo арт.SR-4134 Nero profondo | C41: 19337 | D41: Nero profondo | H41: ='Общий прайс'!E295 -> 34990 | I41: =H41*(1-$I$3) -> 20994
...

Sheet Гранит 500
G1: Скидка
G2: Холодное литье | I2: ='Общий прайс'!$F$2 -> 0.4
I3: ='Общий прайс'!$F$2 -> 0.4
I4: ='Общий прайс'!$F$2 -> 0.4 | N4: Навигация по каталогу цен
A5: Изображение | B5: Модель | C5: Код товара | D5: Цвет | E5: Размер в mm | G5: Тип | H5: Цена в ₽ с НДС | J5: Особенности | K5: Рекомендуемые | L5: Общие характеристики | N5: Описание | O5: Ссылки
E6: Общий | F6: Чаша | G6: Монтажа | H6: РРЦ | I6: Закуп | K6: аксессуары | O6: Гранит | P6: Нерж. Сталь
A8: Материал: TERIGRANIT (технология хлодного литья) Гарантия 15 лет | N8: Смесители | O8: Смесители
A9: SCALINO-403-L | C9: Рендер с интерьером | E9: Схема с размерами | G9: Объём упаковки: 0,11 м³ • Вес нетто: 8,0 кг • Вес брутто: 12,2 кг | L9: • Гарантия 15 лет • Terigranit (Теригранит): В основе материала — наноструктура кристаллов натурального кварца высшей очистки, армирующее полиэфирное волокно Terital (Теритал): ✓ Сверхпрочность — ударопрочность, термостойкость от −50 °C до +280 °C, на 70% прочнее аналогов. ✓ Гигиена — антибактериальная защита в материале, не впитывает запахи и красители. ✓ Лёгкий уход — гидрофобная поверхность: вода скатывается. ✓ Тишина — максимальное шумопоглощение, без «барабанного» эффекта стали. ✓ Долговечный дизайн — цвет не выгорает. ✓ Безопасность — сертифицированное европейское сырьё, допуск к пищевым продуктам. • Комплектация: сифон с доп.выводом для ПММ, крепеж, паспорт изделия, монтажный шаблон. • Упаковка капсульного типа: целлюлозный пятислойный влагостойкий картон, ребра жесткости, мойка обернута в полиэтиленовый пакет. | N9: Дозаторы | O9: Дозаторы
B10: ='Общий прайс'!C34 -> RIVELATO Мойка SCALINO SL-403-L 1-чаш 445*450 antracite | C10: ='Общий прайс'!A34 -> 19662 | D10: antracite | E10: 450*445 | F10: 400 х 370 х 200 | G10: • Подстольный монтаж | H10: ='Общий прайс'!E34 -> 14990 | I10: =H10*(1-$I$2) -> 8994 | J10: • Монтаж ПОДСТОЛЬНЫЙ • Наличие фальц-ступени для доски или ролл-мата • Прямоугольный перелив • Сливное отверстие слева • Комплектация U-образный сифон с выводом д/ПММ, комплект крепежа | K10: • Разделочная доска HPL • Ролл-мат | N10: Аксессуары | O10: Аксессуары
B11: ='Общий прайс'!C35 -> RIVELATO Мойка SCALINO SL-403-L 1-чаш 445*450 beige scuro | C11: ='Общий прайс'!A35 -> 19663 | D11: beige scuro | H11: ='Общий прайс'!E35 -> 14990 | I11: =H11*(1-$I$2) -> 8994 | N11: База 400 mm | O11: 400 | P11: 400
B12: ='Общий прайс'!C34 -> RIVELATO Мойка SCALINO SL-403-L 1-чаш 445*450 antracite | C12: ='Общий прайс'!A36 -> 19664 | D12: brina | H12: ='Общий прайс'!E36 -> 14990 | I12: =H12*(1-$I$2) -> 8994 | N12: База 450 mm | O12: 450 | P12: 450
B13: ='Общий прайс'!C36 -> RIVELATO Мойка SCALINO SL-403-L 1-чаш 445*450 brina | C13: ='Общий прайс'!A37 -> 19665 | D13: grigio metallizzato | H13: ='Общий прайс'!E37 -> 14990 | I13: =H13*(1-$I$2) -> 8994 | N13: База 600 mm | O13: 600 | P13: 600
N14: База 800 mm | O14: 800 | P14: 800
N15: База 900 mm | O15: 900 | P15: 900
A16: SCALINO-403-R | C16: Рендер с интерьером | E16: Схема с размерами | G16: Объём упаковки: 0,11 м³ • Вес нетто: 8,0 кг • Вес брутто: 12,2 кг | N16: Общий прайс | O16: Общий прайс
B17: ='Общий прайс'!C40 -> RIVELATO Мойка SCALINO SL-403-R 1-чаш 445*450 antracite | C17: ='Общий прайс'!A40 -> 19668 | D17: antracite | E17: 450*445 | F17: 400 х 370 х 200 | G17: • Универсальный | H17: ='Общий прайс'!E40 -> 14990 | I17: =H17*(1-$I$2) -> 8994 | J17: • Монтаж ПОДСТОЛЬНЫЙ • Наличие фальц-ступени для доски или ролл-мата • Прямоугольный перелив • Сливное отверстие справа • Комплектация U-образный сифон с выводом д/ПММ, комплект крепежа | K17: • Разделочная доска HPL • Ролл-мат | N17: Содержание
B18: ='Общий прайс'!C41 -> RIVELATO Мойка SCALINO SL-403-R 1-чаш 445*450 beige scuro | C18: ='Общий прайс'!A41 -> 19669 | D18: beige scuro | H18: ='Общий прайс'!E41 -> 14990 | I18: =H18*(1-$I$2) -> 8994
B19: ='Общий прайс'!C42 -> RIVELATO Мойка SCALINO SL-403-R 1-чаш 445*450 brina | C19: ='Общий прайс'!A48 -> 19676 | D19: brina | H19: ='Общий прайс'!E42 -> 14990 | I19: =H19*(1-$I$2) -> 8994
B20: ='Общий прайс'!C43 -> RIVELATO Мойка SCALINO SL-403-R 1-чаш 445*450 grigio metallizzato | C20: ='Общий прайс'!A43 -> 19671 | D20: grigio metallizzato | H20: ='Общий прайс'!E43 -> 14990 | I20: =H20*(1-$I$2) -> 8994
A23: LINO 454-L | C23: Рендер с интерьером | E23: Схема с размерами | G23: Объём упаковки: 0,11 м³ • Вес нетто: 7,9 кг • Вес брутто: 12,1 кг
B24: ='Общий прайс'!C100 -> RIVELATO Мойка LINO 454-L 1-чаш 450*440 antracite арт.LN-454-L antracite | C24: 19212 | D24: antracite | E24: 450*440 | F24: 400*360*200 | G24: • Универсальный | H24: ='Общий прайс'!E100 -> 16990 | I24: =H24*(1-$I$2) -> 10194 | J24: • Монтаж универсальный • На дне направляющие воду лучи • Наличие фальц-ступени для доски или ролл-мата • Прямоугольный перелив • Сливное отверстие справа • Комплектация U-образный сифон с выводом д/ПММ | K24: • Разделочная доска HPL Код товара № 19438, 19439 • Ролл-мат Код товара № 19449
B25: ='Общий прайс'!C101 -> RIVELATO Мойка LINO 454-L 1-чаш 450*440 beige scuro арт.LN-454-L beige scuro | C25: 19197 | D25: beige scuro | H25: ='Общий прайс'!E101 -> 16990 | I25: =H25*(1-$I$2) -> 10194
B26: ='Общий прайс'!C102 -> RIVELATO Мойка LINO 454-L 1-чаш 450*440 brina арт.LN-454-L brina | C26: 19220 | D26: brina | H26: ='Общий прайс'!E102 -> 16990 | I26: =H26*(1-$I$2) -> 10194
B27: ='Общий прайс'!C103 -> RIVELATO Мойка LINO 454-L 1-чаш 450*440 grigio metallizzato арт.LN-454-L grigio metallizzato | C27: 19210 | D27: grigio metallizzato | H27: ='Общий прайс'!E103 -> 16990 | I27: =H27*(1-$I$2) -> 10194
B28: ='Общий прайс'!C104 -> RIVELATO Мойка LINO 454-L 1-чаш 450*440 nero арт.LN-454-L nero | C28: 19234 | D28: nero | H28: ='Общий прайс'!E104 -> 16990 | I28: =H28*(1-$I$2) -> 10194
B29: ='Общий прайс'!C105 -> RIVELATO Мойка LINO 454-L 1-чаш 450*440 topazio арт.LN-454-L topazio | C29: 19242 | D29: topazio | H29: ='Общий прайс'!E105 -> 16990 | I29: =H29*(1-$I$2) -> 10194
A30: LINO 454-R | C30: Рендер с интерьером | E30: Схема с размерами | G30: Объём упаковки: 0,11 м³ • Вес нетто: 7,9 кг • Вес брутто: 12,1 кг
B31: ='Общий прайс'!C106 -> RIVELATO Мойка LINO 454-R 1-чаш 450*440 antracite арт.LN-454-R antracite | C31: 19213 | D31: antracite | E31: 450*440 | F31: 400*360*200 | G31: • Универсальный | H31: ='Общий прайс'!E106 -> 16990 | I31: =H31*(1-$I$2) -> 10194 | J31: • Монтаж универсальный • На дне направляющие воду лучи • Наличие фальц-ступени для доски или ролл-мата • Прямоугольный перелив • Сливное отверстие справа • Комплектация U-образный сифон с выводом д/ПММ | K31: • Разделочная доска HPL Код товара № 19438, 19439 • Ролл-мат Код товара № 19449
B32: ='Общий прайс'!C107 -> RIVELATO Мойка LINO 454-R 1-чаш 450*440 beige scuro арт.LN-454-R beige scuro | C32: 19198 | D32: beige scuro | H32: ='Общий прайс'!E107 -> 16990 | I32: =H32*(1-$I$2) -> 10194
B33: ='Общий прайс'!C108 -> RIVELATO Мойка LINO 454-R 1-чаш 450*440 brina арт.LN-454-R brina | C33: 19221 | D33: brina | H33: ='Общий прайс'!E108 -> 16990 | I33: =H33*(1-$I$2) -> 10194
B34: ='Общий прайс'!C109 -> RIVELATO Мойка LINO 454-R 1-чаш 450*440 grigio metallizzato арт.LN-454-R grigio metallizzato | C34: 19211 | D34: grigio metallizzato | H34: ='Общий прайс'!E109 -> 16990 | I34: =H34*(1-$I$2) -> 10194
B35: ='Общий прайс'!C110 -> RIVELATO Мойка LINO 454-R 1-чаш 450*440 nero арт.LN-454-R nero | C35: 19235 | D35: nero | H35: ='Общий прайс'!E110 -> 16990 | I35: =H35*(1-$I$2) -> 10194
B36: ='Общий прайс'!C111 -> RIVELATO Мойка LINO 454-R 1-чаш 450*440 topazio арт.LN-454-R topazio | C36: 19243 | D36: topazio | H36: ='Общий прайс'!E111 -> 16990 | I36: =H36*(1-$I$2) -> 10194
A37: TESORO 505-L | C37: Рендер с интерьером | E37: Схема с размерами | G37: Объём упаковки: 0,11 м³ • Вес нетто: 9,1 кг • Вес брутто: 13,3 кг
B38: ='Общий прайс'!C208 -> RIVELATO Мойка TESORO 505-L 1-чаш 500*510 antracite арт.TR-505-L antracite | C38: 19257 | D38: antracite | E38: 500*510 | F38: 450*370*200 | G38: • Врезной | H38: ='Общий прайс'!E208 -> 17990 | I38: =H38*(1-$I$2) -> 10794 | J38: • Фальц-ступень для аксессуаров доска или ролл-мат • Прямоугольный перелив • Смещенное влево сливное отверстие • Подготовка отверстий для смесителя и дозатора • Комплектация U-образный сифон с выводом д/ПММ | K38: • Разделочная доска HPL Код товара № 19440, 19441 • Ролл-мат Код товара № 19450
B39: ='Общий прайс'!C209 -> RIVELATO Мойка TESORO 505-L 1-чаш 500*510 beige scuro арт.TR-505-L beige scuro | C39: 19264 | D39: beige scuro | H39: ='Общий прайс'!E209 -> 17990 | I39: =H39*(1-$I$2) -> 10794
B40: ='Общий прайс'!C210 -> RIVELATO Мойка TESORO 505-L 1-чаш 500*510 brina арт.TR-505-L brina | C40: 19276 | D40: brina | H40: ='Общий прайс'!E210 -> 17990 | I40: =H40*(1-$I$2) -> 10794
B41: ='Общий прайс'!C211 -> RIVELATO Мойка TESORO 505-L 1-чаш 500*510 grigio metallizzato арт.TR-505-L grigio metallizzato | C41: 19287 | D41: grigio metallizzato | H41: ='Общий прайс'!E211 -> 17990 | I41: =H41*(1-$I$2) -> 10794
B42: ='Общий прайс'!C212 -> RIVELATO Мойка TESORO 505-L 1-чаш 500*510 nero арт.TR-505-L nero | C42: 19299 | D42: nero | H42: ='Общий прайс'!E212 -> 17990 | I42: =H42*(1-$I$2) -> 10794
B43: ='Общий прайс'!C213 -> RIVELATO Мойка TESORO 505-L 1-чаш 500*510 topazio арт.TR-505-L topazio | C43: 19310 | D43: topazio | H43: ='Общий прайс'!E213 -> 17990 | I43: =H43*(1-$I$2) -> 10794
...

Sheet Гранит 600
G1: Скидка
G2: Холодное литье | I2: ='Общий прайс'!$F$2 -> 0.4
G3: Горячее литье | I3: ='Общий прайс'!$F$3 -> 0.4
N5: Навигация по каталогу цен
A6: Изображение | B6: Модель | C6: Код товара | D6: Цвет | E6: Размер в mm | G6: Тип | H6: Цена в ₽ с НДС | J6: Особенности | K6: Рекомендованные | L6: Общие характеристики | N6: Описание | O6: Ссылки
E7: Общий | F7: Чаша | G7: Монтажа | H7: РРЦ | I7: Закуп | K7: аксессуары | O7: Гранит | P7: Нерж. Сталь
A9: Материал: TERIGRANIT (технология хлодного литья) Гарантия 15 лет | N9: Смесители | O9: Смесители
